BEGIN:VCALENDAR
VERSION:2.0
PRODID:-//Plone.org//NONSGML plone.app.event//EN
X-WR-TIMEZONE:Brazil/East
BEGIN:VEVENT
SUMMARY:SEBRAE - REALIZA MAIS 2025
DTSTART;TZID=Brazil/East;VALUE=DATE-TIME:20250205T180000
DTEND;TZID=Brazil/East;VALUE=DATE-TIME:20250205T190000
DTSTAMP;VALUE=DATE-TIME:20260425T160925Z
UID:7f0d6930c8a74679b14753047cdbb9dd@www.buritama.sp.leg.br
CREATED;VALUE=DATE-TIME:20250114T135344Z
LAST-MODIFIED;VALUE=DATE-TIME:20250114T135350Z
LOCATION:PLENÁRIO - CÂMARA MUNICIPAL DE BURITAMA
URL:https://www.buritama.sp.leg.br/institucional/eventos/sebrae-realiza-ma
 is-2025-1
END:VEVENT
BEGIN:VTIMEZONE
TZID:Brazil/East
X-LIC-LOCATION:Brazil/East
BEGIN:DAYLIGHT
DTSTART;VALUE=DATE-TIME:20241020T010000
TZNAME:BRST
TZOFFSETFROM:-0300
TZOFFSETTO:-0200
END:DAYLIGHT
END:VTIMEZONE
END:VCALENDAR
