BEGIN:VCALENDAR
VERSION:2.0
PRODID:-//Plone.org//NONSGML plone.app.event//EN
X-WR-TIMEZONE:Brazil/East
BEGIN:VEVENT
SUMMARY:Reunião do NEPH (Núcleo de Educação Permanente) - CIR DOS CONS
 ORCIOS
DTSTART;TZID=Brazil/East;VALUE=DATE-TIME:20230815T080000
DTEND;TZID=Brazil/East;VALUE=DATE-TIME:20230815T090000
DTSTAMP;VALUE=DATE-TIME:20260424T223821Z
UID:25ecad840c7b4653913cb4b2e44561c0@www.buritama.sp.leg.br
ATTENDEE;CN="FUNCIONÁRIOS DA CASA; VEREADORES; Participação dos municí
 pios da região; REPRESENTANTES DO MUNCÍPIO E PÚBLICO EM GERAL.";ROLE=RE
 Q-PARTICIPANT:FUNCIONÁRIOS DA CASA; VEREADORES; Participação dos munic
 ípios da região; REPRESENTANTES DO MUNCÍPIO E PÚBLICO EM GERAL.
CONTACT:EDILSON CARLOS DE PAIVA - DIRETOR MUNICIPAL DE SAÚDE
CREATED;VALUE=DATE-TIME:20230809T131136Z
LAST-MODIFIED;VALUE=DATE-TIME:20230809T131139Z
LOCATION:Câmara Municipal de Buritama
URL:https://www.buritama.sp.leg.br/institucional/eventos/reuniao-do-neph-n
 ucleo-de-educacao-permanente-cir-dos-consorcios
END:VEVENT
BEGIN:VTIMEZONE
TZID:Brazil/East
X-LIC-LOCATION:Brazil/East
BEGIN:STANDARD
DTSTART;VALUE=DATE-TIME:20230225T230000
TZNAME:BRT
TZOFFSETFROM:-0200
TZOFFSETTO:-0300
END:STANDARD
END:VTIMEZONE
END:VCALENDAR
