BEGIN:VCALENDAR
VERSION:2.0
PRODID:-//Plone.org//NONSGML plone.app.event//EN
X-WR-TIMEZONE:Brazil/East
BEGIN:VEVENT
SUMMARY:REUNIÃO DAS COMISSÕES PERMANENTES
DTSTART;TZID=Brazil/East;VALUE=DATE-TIME:20230816T090000
DTEND;TZID=Brazil/East;VALUE=DATE-TIME:20230816T093000
DTSTAMP;VALUE=DATE-TIME:20260425T012042Z
UID:6c1a5ecbe3d14ac3a2d5843ad3a24459@www.buritama.sp.leg.br
ATTENDEE;CN=VEREADORES;ROLE=REQ-PARTICIPANT:VEREADORES
CONTACT:SECRETARIA ADMINISTRATIVA\, 1836911216\, SECRETARIA@BURITAMA.SP.LE
 G.BR
CREATED;VALUE=DATE-TIME:20230814T102137Z
LAST-MODIFIED;VALUE=DATE-TIME:20230814T102140Z
LOCATION:Câmara Municipal de Buritama
URL:https://www.buritama.sp.leg.br/institucional/eventos/reuniao-das-comis
 soes-permanentes-5
END:VEVENT
BEGIN:VTIMEZONE
TZID:Brazil/East
X-LIC-LOCATION:Brazil/East
BEGIN:STANDARD
DTSTART;VALUE=DATE-TIME:20230225T230000
TZNAME:BRT
TZOFFSETFROM:-0200
TZOFFSETTO:-0300
END:STANDARD
END:VTIMEZONE
END:VCALENDAR
