BEGIN:VCALENDAR
VERSION:2.0
PRODID:-//Plone.org//NONSGML plone.app.event//EN
X-WR-TIMEZONE:Brazil/East
BEGIN:VEVENT
SUMMARY:AUDIÊNCIA PÚBLICA: Planejamento Orçamentário para o exercício
  de 2024.
DTSTART;TZID=Brazil/East;VALUE=DATE-TIME:20230810T170000
DTEND;TZID=Brazil/East;VALUE=DATE-TIME:20230810T180000
DTSTAMP;VALUE=DATE-TIME:20260424T223822Z
UID:585e785bb25a4a149aca58b74c97c9a0@www.buritama.sp.leg.br
ATTENDEE;CN="FUNCIONÁRIOS DA CASA; VEREADORES; REPRESENTANTES DO MUNCÍPI
 O E PÚBLICO EM GERAL.";ROLE=REQ-PARTICIPANT:FUNCIONÁRIOS DA CASA; VEREAD
 ORES; REPRESENTANTES DO MUNCÍPIO E PÚBLICO EM GERAL.
CONTACT:GIANCARLO SANCHES MESTRINER - DIRETOR DO DEPARTAMENTO MUNICIPAL DE
  PLANEJAMENTO E DESENVOLVIMENTO ECONÔMICO.
CREATED;VALUE=DATE-TIME:20230809T130618Z
DESCRIPTION:Considerando a otimização do espaço\, do tempo e principalm
 ente de recursos públicos\, a audiência pública terá como temas\, os o
 rçamentos das pastas de Planejamento\, Desenvolvimento Econômico\, Agric
 ultura\, Meio Ambiente\, Cultura\, Turismo e Esporte e Lazer.
LAST-MODIFIED;VALUE=DATE-TIME:20230809T130922Z
LOCATION:Câmara Municipal de Buritama
URL:https://www.buritama.sp.leg.br/institucional/eventos/audiencia-publica
 -planejamento-orcamentario-para-o-exercicio-de-2024
END:VEVENT
BEGIN:VTIMEZONE
TZID:Brazil/East
X-LIC-LOCATION:Brazil/East
BEGIN:STANDARD
DTSTART;VALUE=DATE-TIME:20230225T230000
TZNAME:BRT
TZOFFSETFROM:-0200
TZOFFSETTO:-0300
END:STANDARD
END:VTIMEZONE
END:VCALENDAR
