BEGIN:VCALENDAR
VERSION:2.0
PRODID:-//Plone.org//NONSGML plone.app.event//EN
X-WR-TIMEZONE:Brazil/East
BEGIN:VEVENT
SUMMARY:AUDIÊNCIA PÚBLICA - DEPARTAMENTO DE CULTURA: LEI PAULO GUSTAVO
DTSTART;TZID=Brazil/East;VALUE=DATE-TIME:20230810T150000
DTEND;TZID=Brazil/East;VALUE=DATE-TIME:20230810T170000
DTSTAMP;VALUE=DATE-TIME:20260424T223750Z
UID:d4b09020035c4881b8de598dba5179b9@www.buritama.sp.leg.br
ATTENDEE;CN="FUNCIONÁRIOS DA CASA; VEREADORES; REPRESENTANTES DO MUNCÍPI
 O E PÚBLICO EM GERAL.";ROLE=REQ-PARTICIPANT:FUNCIONÁRIOS DA CASA; VEREAD
 ORES; REPRESENTANTES DO MUNCÍPIO E PÚBLICO EM GERAL.
CONTACT:Luciene de Oliveira Santos - Diretora de Cultura
CREATED;VALUE=DATE-TIME:20230809T125531Z
DESCRIPTION:Execução da audiência pública\, para a discussão com repr
 esentantes da Cultura do nosso município\, assuntos\, referentes a Lei Pa
 ulo Gustavo.
LAST-MODIFIED;VALUE=DATE-TIME:20230809T130846Z
LOCATION:Câmara Municipal de Buritama
URL:https://www.buritama.sp.leg.br/institucional/eventos/audiencia-publica
 -departamento-de-cultura
END:VEVENT
BEGIN:VTIMEZONE
TZID:Brazil/East
X-LIC-LOCATION:Brazil/East
BEGIN:STANDARD
DTSTART;VALUE=DATE-TIME:20230225T230000
TZNAME:BRT
TZOFFSETFROM:-0200
TZOFFSETTO:-0300
END:STANDARD
END:VTIMEZONE
END:VCALENDAR
