BEGIN:VCALENDAR
VERSION:2.0
PRODID:-//Plone.org//NONSGML plone.app.event//EN
X-WR-TIMEZONE:Brazil/East
BEGIN:VEVENT
SUMMARY:Aniversário do Vereador Weslley Rodrigues da Silva "Cherry"
DTSTART;TZID=Brazil/East;VALUE=DATE-TIME:20240205T090000
DTEND;TZID=Brazil/East;VALUE=DATE-TIME:20240205T100000
DTSTAMP;VALUE=DATE-TIME:20260426T003441Z
UID:e693364534674b219e42857012356357@www.buritama.sp.leg.br
CREATED;VALUE=DATE-TIME:20240131T110401Z
LAST-MODIFIED;VALUE=DATE-TIME:20240131T110404Z
URL:https://www.buritama.sp.leg.br/institucional/eventos/aniversario-do-ve
 reador-weslley-rodrigues-da-silva-cherry
END:VEVENT
BEGIN:VTIMEZONE
TZID:Brazil/East
X-LIC-LOCATION:Brazil/East
BEGIN:DAYLIGHT
DTSTART;VALUE=DATE-TIME:20231015T010000
TZNAME:BRST
TZOFFSETFROM:-0300
TZOFFSETTO:-0200
END:DAYLIGHT
END:VTIMEZONE
END:VCALENDAR
