BEGIN:VCALENDAR
VERSION:2.0
PRODID:-//Plone.org//NONSGML plone.app.event//EN
X-WR-TIMEZONE:Brazil/East
BEGIN:VEVENT
SUMMARY:Aniversário do Vereador Anízio/PSD
DTSTART;VALUE=DATE:20240102
DTEND;VALUE=DATE:20240103
DTSTAMP;VALUE=DATE-TIME:20260426T003445Z
UID:de510932acde46e79e4a0a5d9e554a54@www.buritama.sp.leg.br
CREATED;VALUE=DATE-TIME:20240131T110110Z
LAST-MODIFIED;VALUE=DATE-TIME:20240131T110115Z
URL:https://www.buritama.sp.leg.br/institucional/eventos/aniversario-do-ve
 reador-anizio-psd
END:VEVENT
END:VCALENDAR
