BEGIN:VCALENDAR
VERSION:2.0
PRODID:-//Plone.org//NONSGML plone.app.event//EN
X-WR-TIMEZONE:Brazil/East
BEGIN:VEVENT
SUMMARY:Academia Araçatubense de Letras - Posse de JORDEMO ZANELI JUNIOR 
 como Acadêmico Correspondente.
DTSTART;TZID=Brazil/East;VALUE=DATE-TIME:20230928T193000
DTEND;TZID=Brazil/East;VALUE=DATE-TIME:20230928T213000
DTSTAMP;VALUE=DATE-TIME:20260424T123428Z
UID:d061de56384f4024abf4e292efcc3672@www.buritama.sp.leg.br
ATTENDEE;CN="Público em geral.";ROLE=REQ-PARTICIPANT:Público em geral.
CONTACT:Academia Araçatubense de Letras\, (18) 3624-7638\, aracaletras@es
 tadao.com.br\, https://www.facebook.com/people/Academia-Ara%C3%A7atubense-
 de-Letras/100064287800903/?locale=pt_BR&paipv=0&eav=AfZJ34YELDBps520Zv951z
 k7xjVbs0BLw1S1uofdyI_2HioWXvJ_3jyf8c3uA4XTGUA&_rdr
CREATED;VALUE=DATE-TIME:20230905T111624Z
LAST-MODIFIED;VALUE=DATE-TIME:20230905T111628Z
LOCATION:Rua Joaquim Nabuco\, 210\, Centro\, Araçatuba/SP.
URL:https://www.buritama.sp.leg.br/institucional/eventos/academia-aracatub
 ense-de-letras-posse-de-jordemo-zaneli-junior-como-academico-correspondent
 e
END:VEVENT
BEGIN:VTIMEZONE
TZID:Brazil/East
X-LIC-LOCATION:Brazil/East
BEGIN:STANDARD
DTSTART;VALUE=DATE-TIME:20230225T230000
TZNAME:BRT
TZOFFSETFROM:-0200
TZOFFSETTO:-0300
END:STANDARD
END:VTIMEZONE
END:VCALENDAR
