BEGIN:VCALENDAR
VERSION:2.0
PRODID:-//Plone.org//NONSGML plone.app.event//EN
X-WR-TIMEZONE:Brazil/East
BEGIN:VEVENT
SUMMARY:9ª SESSÃO ORDINÁRIA - 16/04/2021
DTSTART;TZID=Brazil/East;VALUE=DATE-TIME:20210419T180000
DTEND;TZID=Brazil/East;VALUE=DATE-TIME:20210419T193000
DTSTAMP;VALUE=DATE-TIME:20260425T131121Z
UID:34faf8103d6f441fa948dc03b9c577f0@www.buritama.sp.leg.br
ATTENDEE;CN="PUBLICO EM GERAL ATRAVES DOS MEIOS DE COMUNICAÇÃO ABERTOS Y
 OUTUBE E FACEBOOK; FUNCIONÁRIOS DA CÂMARA MUNICIPAL DE BURITAMA E VEREAD
 ORES.";ROLE=REQ-PARTICIPANT:PUBLICO EM GERAL ATRAVES DOS MEIOS DE COMUNICA
 ÇÃO ABERTOS YOUTUBE E FACEBOOK; FUNCIONÁRIOS DA CÂMARA MUNICIPAL DE BU
 RITAMA E VEREADORES.
CONTACT:CAMARA MUNICIPAL DE BURITAMA\, 18 3691-3182\, secretaria@buritama.
 sp.leg.br\, https://www.youtube.com/channel/UCnlsVdT-6-lg39w7QhnSo_g
CREATED;VALUE=DATE-TIME:20210416T120302Z
DESCRIPTION:Constam da Pauta de Matérias da Sessão Ordinária da Câmara
  Municipal de Buritama\, a ser realizada na segunda-feira\, dia 19 de abri
 l de 2021\, excepcionalmente\, às 18h00\, nas dependências do Edifício-
 sede do Poder Legislativo\, localizado na Avenida Benedito Alves Rangel\, 
 nº 1500\, de forma presencial\, sem presença de público\, nos termos do
  Ato da Mesa nº 02\, de 31.03.21\, as seguintes Proposituras
LAST-MODIFIED;VALUE=DATE-TIME:20210416T120305Z
LOCATION:BURITAMA-SP
URL:https://www.buritama.sp.leg.br/institucional/eventos/9a-sessao-ordinar
 ia-16-04-2021
END:VEVENT
BEGIN:VTIMEZONE
TZID:Brazil/East
X-LIC-LOCATION:Brazil/East
BEGIN:STANDARD
DTSTART;VALUE=DATE-TIME:20210220T230000
TZNAME:BRT
TZOFFSETFROM:-0200
TZOFFSETTO:-0300
END:STANDARD
END:VTIMEZONE
END:VCALENDAR
