BEGIN:VCALENDAR
VERSION:2.0
PRODID:-//Plone.org//NONSGML plone.app.event//EN
X-WR-TIMEZONE:Brazil/East
BEGIN:VEVENT
SUMMARY:9ª SESSÃO ORDINÁRIA - 15.04.2024 ÀS 19H00.
DTSTART;TZID=Brazil/East;VALUE=DATE-TIME:20240415T190000
DTEND;TZID=Brazil/East;VALUE=DATE-TIME:20240415T200000
DTSTAMP;VALUE=DATE-TIME:20260425T115224Z
UID:9f0efcd7e4034979a046deda5817da38@www.buritama.sp.leg.br
CREATED;VALUE=DATE-TIME:20240327T222959Z
LAST-MODIFIED;VALUE=DATE-TIME:20240327T223016Z
URL:https://www.buritama.sp.leg.br/institucional/eventos/9a-sessao-ordinar
 ia-15-04-2024-as-19h00
END:VEVENT
BEGIN:VTIMEZONE
TZID:Brazil/East
X-LIC-LOCATION:Brazil/East
BEGIN:STANDARD
DTSTART;VALUE=DATE-TIME:20240217T230000
TZNAME:BRT
TZOFFSETFROM:-0200
TZOFFSETTO:-0300
END:STANDARD
END:VTIMEZONE
END:VCALENDAR
