BEGIN:VCALENDAR
VERSION:2.0
PRODID:-//Plone.org//NONSGML plone.app.event//EN
X-WR-TIMEZONE:Brazil/East
BEGIN:VEVENT
SUMMARY:7ª SESSÃO ORDINÁRIA - 01.04.2024 ÀS 19H00.
DTSTART;TZID=Brazil/East;VALUE=DATE-TIME:20240401T190000
DTEND;TZID=Brazil/East;VALUE=DATE-TIME:20240401T210000
DTSTAMP;VALUE=DATE-TIME:20260421T075828Z
UID:9578a2aab1ff4ed1ba2c2b9ce33e6eb9@www.buritama.sp.leg.br
CONTACT:SECRETARIA ADMINISTRATIVA\, 1836911216\, SECRETARIA@BURITAMA.SP.LE
 G.BR
CREATED;VALUE=DATE-TIME:20240327T222837Z
LAST-MODIFIED;VALUE=DATE-TIME:20240327T222911Z
LOCATION:Plenário da Câmara Municipal
URL:https://www.buritama.sp.leg.br/institucional/eventos/6a-sessao-ordinar
 ia-01-04-2024-as-19h00
END:VEVENT
BEGIN:VTIMEZONE
TZID:Brazil/East
X-LIC-LOCATION:Brazil/East
BEGIN:STANDARD
DTSTART;VALUE=DATE-TIME:20240217T230000
TZNAME:BRT
TZOFFSETFROM:-0200
TZOFFSETTO:-0300
END:STANDARD
END:VTIMEZONE
END:VCALENDAR
