BEGIN:VCALENDAR
VERSION:2.0
PRODID:-//Plone.org//NONSGML plone.app.event//EN
X-WR-TIMEZONE:Brazil/East
BEGIN:VEVENT
SUMMARY:25ª SESSÃO ORDINÁRIA - 07/11/2022 ÀS 19H00.
DTSTART;TZID=Brazil/East;VALUE=DATE-TIME:20221107T190000
DTEND;TZID=Brazil/East;VALUE=DATE-TIME:20221107T203000
DTSTAMP;VALUE=DATE-TIME:20260426T003440Z
UID:67da7c1d149241d38d428dab5f8df715@www.buritama.sp.leg.br
CONTACT:Secretaria da Câmara\, 18 3691-1216\, secretaria@buritama.sp.leg.
 br\, https://www.facebook.com/profile.php?id=100014889913613
CREATED;VALUE=DATE-TIME:20221105T214923Z
DESCRIPTION:Constam da Pauta de Matérias da Sessão Ordinária da Câmara
  Municipal de Buritama\, a ser realizada na segunda-feira\, dia 07 de nove
 mbro de 2022\, às 19h00.
LAST-MODIFIED;VALUE=DATE-TIME:20221105T214928Z
LOCATION:CÂMARA MUNICIPAL DE BURITAMA
URL:https://www.buritama.sp.leg.br/institucional/eventos/25a-sessao-ordina
 ria-07-11-2022-as-19h00
END:VEVENT
BEGIN:VTIMEZONE
TZID:Brazil/East
X-LIC-LOCATION:Brazil/East
BEGIN:DAYLIGHT
DTSTART;VALUE=DATE-TIME:20221016T010000
TZNAME:BRST
TZOFFSETFROM:-0300
TZOFFSETTO:-0200
END:DAYLIGHT
END:VTIMEZONE
END:VCALENDAR
