BEGIN:VCALENDAR
VERSION:2.0
PRODID:-//Plone.org//NONSGML plone.app.event//EN
X-WR-TIMEZONE:Brazil/East
BEGIN:VEVENT
SUMMARY:23ª SESSÃO ORDINÁRIA - 09.10.2023 ÀS 19H00.
DTSTART;TZID=Brazil/East;VALUE=DATE-TIME:20231009T190000
DTEND;TZID=Brazil/East;VALUE=DATE-TIME:20231009T200000
DTSTAMP;VALUE=DATE-TIME:20260425T140616Z
UID:2c4d10bfb6c44df7baf2e91d71a59a07@www.buritama.sp.leg.br
ATTENDEE;CN="VEREADORES, SERVIDORES DA CÂMARA E POPULAÇÃO EM GERAL.";RO
 LE=REQ-PARTICIPANT:VEREADORES, SERVIDORES DA CÂMARA E POPULAÇÃO EM GERA
 L.
CONTACT:SECRETARIA ADMINISTRATIVA\, 1836911216\, secretaria@buritama.sp.le
 g.br
CREATED;VALUE=DATE-TIME:20230928T171015Z
LAST-MODIFIED;VALUE=DATE-TIME:20230928T171020Z
LOCATION:PLENÁRIO - CÂMARA MUNICIPAL DE BURITAMA
URL:https://www.buritama.sp.leg.br/institucional/eventos/23a-sessao-ordina
 ria-09-10-2023-as-19h00
END:VEVENT
BEGIN:VTIMEZONE
TZID:Brazil/East
X-LIC-LOCATION:Brazil/East
BEGIN:STANDARD
DTSTART;VALUE=DATE-TIME:20230225T230000
TZNAME:BRT
TZOFFSETFROM:-0200
TZOFFSETTO:-0300
END:STANDARD
END:VTIMEZONE
END:VCALENDAR
