BEGIN:VCALENDAR
VERSION:2.0
PRODID:-//Plone.org//NONSGML plone.app.event//EN
X-WR-TIMEZONE:Brazil/East
BEGIN:VEVENT
SUMMARY:20ª SESSÃO ORDINÁRIA - 11.09.2023 ÀS 19H00.
DTSTART;VALUE=DATE:20230911
DTEND;VALUE=DATE:20230912
DTSTAMP;VALUE=DATE-TIME:20260425T140616Z
UID:aab07b214b064b5885c7ab115e720374@www.buritama.sp.leg.br
CONTACT:SECRETARIA ADMINISTRATIVA\, SECRETARIA@BURITAMA.SP.LEG.BR
CREATED;VALUE=DATE-TIME:20230908T125218Z
DESCRIPTION:Constam da Pauta de Matérias da Sessão Ordinária da Câmara
  Municipal de Buritama\, conforme o acordado por unanimidade pela Edilidad
 e\, a ser realizada na segunda-feira\, dia 11 de setembro de 2023\, às 19
 h00\, nas dependências do Edifício sede do Poder Legislativo\, localizad
 o na Avenida Benedito Alves Rangel\, nº 1500.
LAST-MODIFIED;VALUE=DATE-TIME:20230908T125305Z
LOCATION:Câmara Municipal de Buritama
URL:https://www.buritama.sp.leg.br/institucional/eventos/20a-sessao-ordina
 ria-11-09-2023-as-19h00
END:VEVENT
END:VCALENDAR
