BEGIN:VCALENDAR
VERSION:2.0
PRODID:-//Plone.org//NONSGML plone.app.event//EN
X-WR-TIMEZONE:Brazil/East
BEGIN:VEVENT
SUMMARY:18ª SESSÃO ORDINÁRIA ÀS 13H00 - 16/08/2023
DTSTART;TZID=Brazil/East;VALUE=DATE-TIME:20230816T130000
DTEND;TZID=Brazil/East;VALUE=DATE-TIME:20230816T140000
DTSTAMP;VALUE=DATE-TIME:20260424T223823Z
UID:38bd8ddf354549d89180a16db04af08e@www.buritama.sp.leg.br
ATTENDEE;CN="FUNCIONÁRIOS DA CASA; VEREADORES; E PÚBLICO EM GERAL.";ROLE
 =REQ-PARTICIPANT:FUNCIONÁRIOS DA CASA; VEREADORES; E PÚBLICO EM GERAL.
CONTACT:SECRETARIA ADMINISTRATIVA\, 1836911216\, SECRETARIA@BURITAMA.SP.LE
 G.BR
CREATED;VALUE=DATE-TIME:20230811T105826Z
LAST-MODIFIED;VALUE=DATE-TIME:20230811T105829Z
LOCATION:Câmara Municipal de Buritama
URL:https://www.buritama.sp.leg.br/institucional/eventos/18a-sessao-ordina
 ria-as-13h00-16-08-2023
END:VEVENT
BEGIN:VTIMEZONE
TZID:Brazil/East
X-LIC-LOCATION:Brazil/East
BEGIN:STANDARD
DTSTART;VALUE=DATE-TIME:20230225T230000
TZNAME:BRT
TZOFFSETFROM:-0200
TZOFFSETTO:-0300
END:STANDARD
END:VTIMEZONE
END:VCALENDAR
