BEGIN:VCALENDAR
VERSION:2.0
PRODID:-//Plone.org//NONSGML plone.app.event//EN
X-WR-TIMEZONE:Brazil/East
BEGIN:VEVENT
SUMMARY:16ª SESSÃO ORDINÁRIA - 01/08/2021 ÀS 19H00.
DTSTART;TZID=Brazil/East;VALUE=DATE-TIME:20220801T190000
DTEND;TZID=Brazil/East;VALUE=DATE-TIME:20220801T200000
DTSTAMP;VALUE=DATE-TIME:20260425T115224Z
UID:de3b2fbe7544484eb907274849c20bc7@www.buritama.sp.leg.br
ATTENDEE;CN="FUNCIONÁRIOS; VEREADORES E PÚBLICO EM GERAL.";ROLE=REQ-PART
 ICIPANT:FUNCIONÁRIOS; VEREADORES E PÚBLICO EM GERAL.
CONTACT:18 3691-1216\, secretaria@buritama.sp.leg.br\, https://www.youtube
 .com/channel/UCnlsVdT-6-lg39w7QhnSo_g
CREATED;VALUE=DATE-TIME:20220714T225938Z
LAST-MODIFIED;VALUE=DATE-TIME:20220714T225945Z
LOCATION:CÂMARA MUNICIPAL DE BURITAMA
URL:https://www.buritama.sp.leg.br/institucional/eventos/16a-sessao-ordina
 ria-01-08-2021-as-19h00
END:VEVENT
BEGIN:VTIMEZONE
TZID:Brazil/East
X-LIC-LOCATION:Brazil/East
BEGIN:STANDARD
DTSTART;VALUE=DATE-TIME:20220219T230000
TZNAME:BRT
TZOFFSETFROM:-0200
TZOFFSETTO:-0300
END:STANDARD
END:VTIMEZONE
END:VCALENDAR
