BEGIN:VCALENDAR
VERSION:2.0
PRODID:-//Plone.org//NONSGML plone.app.event//EN
X-WR-TIMEZONE:Brazil/East
BEGIN:VEVENT
SUMMARY:11ª SESSÃO ORDINÁRIA - 10/05/2021
DTSTART;TZID=Brazil/East;VALUE=DATE-TIME:20210510T190000
DTEND;TZID=Brazil/East;VALUE=DATE-TIME:20210510T203000
DTSTAMP;VALUE=DATE-TIME:20260420T153310Z
UID:6fad5ba893cd4bbba3c9790a8abfd43d@www.buritama.sp.leg.br
ATTENDEE;CN="VEREADORES; FUNCIONÁRIOS DA CÂMARA; PÚBLICO EM GERAL ATRAV
 ÉS DOS MEIOS DE COMUNICAÇÃO ABERTOS YOUTUBE E FACEBOOK.";ROLE=REQ-PARTI
 CIPANT:VEREADORES; FUNCIONÁRIOS DA CÂMARA; PÚBLICO EM GERAL ATRAVÉS DO
 S MEIOS DE COMUNICAÇÃO ABERTOS YOUTUBE E FACEBOOK.
CONTACT:CÂMARA MUNICIPAL DE BURITAMA\, 18 3691-3182\, secretaria@buritama
 .sp.leg.br\, https://www.youtube.com/channel/UCnlsVdT-6-lg39w7QhnSo_g
CREATED;VALUE=DATE-TIME:20210506T114238Z
DESCRIPTION:Constam da Pauta de Matérias da Sessão Ordinária da Câmara
  Municipal de Buritama\, a ser realizada na segunda-feira\, dia 10 de maio
  de 2021\, excepcional e temporariamente\, às 19h00.
LAST-MODIFIED;VALUE=DATE-TIME:20210509T191435Z
LOCATION:BURITAMA-SP
URL:https://www.buritama.sp.leg.br/institucional/eventos/11a-sessao-ordina
 ria-10-05-2021
END:VEVENT
BEGIN:VTIMEZONE
TZID:Brazil/East
X-LIC-LOCATION:Brazil/East
BEGIN:STANDARD
DTSTART;VALUE=DATE-TIME:20210220T230000
TZNAME:BRT
TZOFFSETFROM:-0200
TZOFFSETTO:-0300
END:STANDARD
END:VTIMEZONE
END:VCALENDAR
